BEGIN:VCALENDAR
VERSION:2.0
PRODID:-//bonasoft.pl//NONSGML Spotkanie Klubu Ludzi Ciekawych Wszystkiego//EN
CALSCALE:GREGORIAN
METHOD:PUBLISH
BEGIN:VEVENT
UID:20260421T083336-996133376uid
DISTAMP:20260421T083336
DTSTART:20250604T220000Z
DTEND:20250604T220000Z
LOCATION:Czytelnia BP Radom Filii w Lipsku
SUMMARY:Spotkanie Klubu Ludzi Ciekawych Wszystkiego
DESCRIPTION:
END:VEVENT
END:VCALENDAR
