BEGIN:VCALENDAR
VERSION:2.0
PRODID:-//bonasoft.pl//NONSGML Spotkanie “Klubu Ludzi Ciekawych Wszystkiego”//EN
CALSCALE:GREGORIAN
METHOD:PUBLISH
BEGIN:VEVENT
UID:20260420T130607-634792796uid
DISTAMP:20260420T130607
DTSTART:20250320T100000Z
DTEND:20250320T120000Z
LOCATION:Czytelnia Biblioteki Pedagogicznej w Radomiu Filii w Lipsku
SUMMARY:Spotkanie “Klubu Ludzi Ciekawych Wszystkiego”
DESCRIPTION:
END:VEVENT
END:VCALENDAR
